BEGIN:VCALENDAR
VERSION:2.0
PRODID:-//appserver-d557922e-nginx-62ff6b27fb0c4ee6b6b423109862fd3c//NONSGM
 L kigkonsult.se iCalcreator 2.26.9//
CALSCALE:GREGORIAN
METHOD:PUBLISH
X-FROM-URL:https://973.cupe.ca
X-WR-TIMEZONE:America/Toronto
BEGIN:VTIMEZONE
TZID:America/Toronto
X-LIC-LOCATION:America/Toronto
BEGIN:STANDARD
DTSTART:20251102T020000
TZOFFSETFROM:-0400
TZOFFSETTO:-0500
RDATE:20261101T020000
TZNAME:EST
END:STANDARD
BEGIN:DAYLIGHT
DTSTART:20260308T020000
TZOFFSETFROM:-0500
TZOFFSETTO:-0400
RDATE:20270314T020000
TZNAME:EDT
END:DAYLIGHT
END:VTIMEZONE
BEGIN:VEVENT
UID:ai1ec-2177@973.cupe.ca
DTSTAMP:20260424T201309Z
CATEGORIES:
CONTACT:
DTSTART;TZID=America/Toronto:20250324T190000
DTEND;TZID=America/Toronto:20250324T200000
LOCATION:336 Speedvale Ave W Unit L
RDATE;TZID=America/Toronto:20250324T190000
RDATE;TZID=America/Toronto:20250526T190000
RDATE;TZID=America/Toronto:20250929T190000
RDATE;TZID=America/Toronto:20251124T190000
SUMMARY:General Membership Meeting
URL:https://973.cupe.ca/event/general-membership-meeting-10/
X-COST-TYPE:free
END:VEVENT
BEGIN:VEVENT
UID:ai1ec-2231@973.cupe.ca
DTSTAMP:20260424T201309Z
CATEGORIES:
CONTACT:
DTSTART;TZID=America/Toronto:20250526T180000
DTEND;TZID=America/Toronto:20250526T190000
LOCATION:The Royal Canadian Legion @ 57 Watson Pkwy S\, Guelph
SUMMARY:RATIFICATION VOTE
URL:https://973.cupe.ca/event/ratification-vote/
X-COST-TYPE:free
END:VEVENT
BEGIN:VEVENT
UID:ai1ec-2232@973.cupe.ca
DTSTAMP:20260424T201309Z
CATEGORIES:
CONTACT:
DTSTART;TZID=America/Toronto:20250623T170000
DTEND;TZID=America/Toronto:20250623T180000
LOCATION:336 Speedvale Ave W Unit L\, Guelph
RDATE;TZID=America/Toronto:20251027T170000
RDATE;TZID=America/Toronto:20260126T170000
RDATE;TZID=America/Toronto:20260323T170000
RDATE;TZID=America/Toronto:20260525T170000
SUMMARY:General Membership Meeting
URL:https://973.cupe.ca/event/2232/
X-COST-TYPE:free
END:VEVENT
BEGIN:VEVENT
UID:ai1ec-2321@973.cupe.ca
DTSTAMP:20260424T201309Z
CATEGORIES:
CONTACT:
DTSTART;TZID=America/Toronto:20260223T190000
DTEND;TZID=America/Toronto:20260223T200000
LOCATION:336 Speedvale Ave W Unit L
RDATE;TZID=America/Toronto:20260525T190000
RDATE;TZID=America/Toronto:20260928T190000
RDATE;TZID=America/Toronto:20261123T190000
SUMMARY:General Membership Meeting@336 Speedvale Ave W Unit L\, Guelph
URL:https://973.cupe.ca/event/general-membership-meeting-2/
X-COST-TYPE:free
END:VEVENT
BEGIN:VEVENT
UID:ai1ec-2343@973.cupe.ca
DTSTAMP:20260424T201309Z
CATEGORIES:
CONTACT:
DTSTART;TZID=America/Toronto:20260427T183000
DTEND;TZID=America/Toronto:20260427T185000
LOCATION:GUELPH LEGION @ 57 WATSON PKWY S\, GUELPH
SUMMARY:ISSUE MEMBERSHIP CARDS – 57 WATSON PKWY S\, GUELPH
URL:https://973.cupe.ca/event/issue-membership-cards-57-watson-pkwy-s-guelp
 h/
X-COST-TYPE:free
END:VEVENT
BEGIN:VEVENT
UID:ai1ec-2342@973.cupe.ca
DTSTAMP:20260424T201309Z
CATEGORIES:
CONTACT:
DTSTART;TZID=America/Toronto:20260427T190000
DTEND;TZID=America/Toronto:20260427T210000
LOCATION:GUEPH LEGION @ 57 WATSON PKWY S\, GUELPH
SUMMARY:GENERAL MEMBERSHIP MEETING -ELECTIONS – 57 WATSON PKWY S. GUELPH
URL:https://973.cupe.ca/event/general-membership-meeting-elections-57-watso
 n-pkwy-s-guelph/
X-COST-TYPE:free
END:VEVENT
END:VCALENDAR
